BEGIN:VCALENDAR
VERSION:2.0
PRODID:-//eventon.com NONSGML v1.0//EN
BEGIN:VEVENT
UID:69e59d396443d
DTSTAMP:20260420T062753
DTSTART:20190808T210000Z
DTEND:20190819T210000Z
LOCATION:Закарпатська обл\,  Мукачівський р-н\,  с. Лісарня 
SUMMARY:Друга зміна творчого табору "Galaxy camp"\,  2019
DESCRIPTION: На почтку серпня на 100 дітлахів соціально незахищених категорій чекають незабутні 12 днів на мальовничому Прикарпатті. Свіже повітря\,  гірська річка\,  цікава програма\,  різноманітні активності\,  і звичайно\,  нові знайомства. Наша команда тьюторів та психологів із нетерпінням чекають на зустріч\,  адже вони підготували неймовірно цікаву програму. Для довідки Перший в Україні інклюзивний[..]
END:VEVENT
END:VCALENDAR